BEGIN:VCALENDAR
VERSION:2.0
PRODID:-//ChamberMaster//Event Calendar 2.0//EN
METHOD:PUBLISH
X-PUBLISHED-TTL:P1H
REFRESH-INTERVAL:P1H
CALSCALE:GREGORIAN
BEGIN:VTIMEZONE
TZID:America/Vancouver
BEGIN:DAYLIGHT
RRULE:FREQ=YEARLY;BYMONTH=3;BYDAY=2SU
DTSTART:20070101T000000
TZOFFSETFROM:-0800
TZOFFSETTO:-0700
TZNAME:Pacific Daylight Time
END:DAYLIGHT
BEGIN:STANDARD
RRULE:FREQ=YEARLY;BYMONTH=11;BYDAY=1SU
DTSTART:20070101T000000
TZOFFSETFROM:-0700
TZOFFSETTO:-0800
TZNAME:Pacific Standard Time
END:STANDARD
END:VTIMEZONE
BEGIN:VEVENT
DTSTART;TZID=America/Vancouver:20260417T070000
DTEND;TZID=America/Vancouver:20260417T220000
X-MICROSOFT-CDO-ALLDAYEVENT:FALSE
SUMMARY:Goldendale Market Fresh Annual Halibut Seafood Tent Sale
DESCRIPTION:🐟🦞 ANNUAL HALIBUT SEAFOOD TENT SALE   ONE DAY ONLY! 🦞🐟Join us April 17th for our Annual Fresh Alaskan Halibut Seafood Tent Sale! This is one of our most anticipated seafood events of the year and you won't want to miss it.⭐ Whole Wild Alaskan Halibut   $14.99/lb✔ Fresh\, wild caught✔ Cut to order at no extra charge✔ Our seafood team will fillet or portion it however you likeWe'll also have a huge selection of fresh seafood favorites\, including:🦞 Lobster tails🦀 Snow crab clusters🦐 Shrimp & prawns🐟 Salmon\, tuna\, rockfish\, cod & more🦪 Clams\, oysters & scallops🔥 Build your own seafood feast and fire up the grill!📅 Friday\, April 17th⏰ Come early for the best selectionNo preorders necessary   just come down to the tent and pick out your seafood.
X-ALT-DESC;FMTTYPE=text/html:<!DOCTYPE html><html><head><title></title></head><body aria-disabled="false"><p>🐟🦞 ANNUAL HALIBUT SEAFOOD TENT SALE &ndash\; ONE DAY ONLY! 🦞🐟</p><p>Join us April 17th for our Annual Fresh Alaskan Halibut Seafood Tent Sale! This is one of our most anticipated seafood events of the year and you won&rsquo\;t want to miss it.</p><p>⭐ Whole Wild Alaskan Halibut &ndash\; $14.99/lb</p><p>✔ Fresh\, wild caught</p><p>✔ Cut to order at no extra charge</p><p>✔ Our seafood team will fillet or portion it however you like</p><p>We&rsquo\;ll also have a huge selection of fresh seafood favorites\, including:</p><p>🦞 Lobster tails</p><p>🦀 Snow crab clusters</p><p>🦐 Shrimp &amp\; prawns</p><p>🐟 Salmon\, tuna\, rockfish\, cod &amp\; more</p><p>🦪 Clams\, oysters &amp\; scallops</p><p>🔥 Build your own seafood feast and fire up the grill!</p><p>📅 Friday\, April 17th</p><p>⏰ Come early for the best selection</p><p>No preorders necessary &mdash\; just come down to the tent and pick out your seafood.</p></body></html>
LOCATION:622 E Broadway Goldendale WA 98620
UID:e.2545.1440268
SEQUENCE:3
DTSTAMP:20260422T161938Z
URL:https://members.goldendalechamber.org/chamber-calendar/Details/goldendale-market-fresh-annual-halibut-seafood-tent-sale-1704960?sourceTypeId=Hub
END:VEVENT
END:VCALENDAR
