BEGIN:VCALENDAR
VERSION:2.0
PRODID:-//ChamberMaster//Event Calendar 2.0//EN
METHOD:PUBLISH
X-PUBLISHED-TTL:P1H
REFRESH-INTERVAL:P1H
CALSCALE:GREGORIAN
BEGIN:VTIMEZONE
TZID:America/Vancouver
BEGIN:DAYLIGHT
RRULE:FREQ=YEARLY;BYMONTH=3;BYDAY=2SU
DTSTART:20070101T000000
TZOFFSETFROM:-0800
TZOFFSETTO:-0700
TZNAME:Pacific Daylight Time
END:DAYLIGHT
BEGIN:STANDARD
RRULE:FREQ=YEARLY;BYMONTH=11;BYDAY=1SU
DTSTART:20070101T000000
TZOFFSETFROM:-0700
TZOFFSETTO:-0800
TZNAME:Pacific Standard Time
END:STANDARD
END:VTIMEZONE
BEGIN:VEVENT
DTSTART;TZID=America/Vancouver:20260510T080000
DTEND;TZID=America/Vancouver:20260510T140000
X-MICROSOFT-CDO-ALLDAYEVENT:FALSE
SUMMARY:Mother's Day Brunch at Dad's Sourdough Bakery
DESCRIPTION:Spend some quality time with mom and enjoy great food!More Info coming soon...
X-ALT-DESC;FMTTYPE=text/html:<!DOCTYPE html><html><head><title></title></head><body aria-disabled="false"><p>Spend some quality time with mom and enjoy great food!</p><p>More Info coming soon...</p></body></html>
LOCATION:604 S. Columbus Goldendale WA 98620
UID:e.2545.1448499
SEQUENCE:3
DTSTAMP:20260422T164006Z
URL:https://members.goldendalechamber.org/chamber-calendar/Details/mother-s-day-brunch-at-dad-s-sourdough-bakery-1715498?sourceTypeId=Hub
END:VEVENT
END:VCALENDAR
