BEGIN:VCALENDAR
VERSION:2.0
PRODID:-//ChamberMaster//Event Calendar 2.0//EN
METHOD:PUBLISH
X-PUBLISHED-TTL:P1H
REFRESH-INTERVAL:P1H
CALSCALE:GREGORIAN
BEGIN:VTIMEZONE
TZID:America/Vancouver
BEGIN:DAYLIGHT
RRULE:FREQ=YEARLY;BYMONTH=3;BYDAY=2SU
DTSTART:20070101T000000
TZOFFSETFROM:-0800
TZOFFSETTO:-0700
TZNAME:Pacific Daylight Time
END:DAYLIGHT
BEGIN:STANDARD
RRULE:FREQ=YEARLY;BYMONTH=11;BYDAY=1SU
DTSTART:20070101T000000
TZOFFSETFROM:-0700
TZOFFSETTO:-0800
TZNAME:Pacific Standard Time
END:STANDARD
END:VTIMEZONE
BEGIN:VEVENT
DTSTART;TZID=America/Vancouver:20260509T180000
DTEND;TZID=America/Vancouver:20260509T200000
X-MICROSOFT-CDO-ALLDAYEVENT:FALSE
SUMMARY:Mother's Day Paint Night
DESCRIPTION:Join us for a fun memory - making evening!More InfoJoin us for a fun\, creative\, and memory-making evening on Saturday\, May 9th from 6 8pm 💐Whether you're bringing your mom\, grandma\, auntie\, sister\, best friend or just treating yourself this is the perfect way to celebrate the amazing women in your life.✨ You'll be guided step-by-step in painting a stunning still-life featuring bright\, happy sunflowers in a vase with cascading purple and pink wisteria no experience needed!🍷 NEW! Siebert's now offers select beer and cider on tap\, plus poured wine available for purchase perfectly paired with their delicious charcuterie boards.💛 Men this is your sign to switch it up and treat her to a relaxing\, creative night out (bonus points for snacks and a drink 😉).💲 $40 per person🎟 Spots are limited don't wait!To reserve your canvas\, reach out to Carrie Wells and Venmo to secure your spot.Paint nights aren't just fun  they're the kind of memories that stick with you. Come create something beautiful together.
X-ALT-DESC;FMTTYPE=text/html:<!DOCTYPE html><html><head><title></title></head><body aria-disabled="false"><p>Join us for a fun memory - making evening!</p><p><a fr-original-style="" href="https://www.facebook.com/events/1699721891208113?acontext=%7B%22event_action_history%22%3A[%7B%22surface%22%3A%22home%22%7D%2C%7B%22mechanism%22%3A%22attachment%22%2C%22surface%22%3A%22newsfeed%22%7D]%2C%22ref_notif_type%22%3Anull%7D" style="user-select: auto\;">More Info</a></p><p>Join us for a fun\, creative\, and memory-making evening on Saturday\, May 9th from 6&ndash\;8pm 💐</p><p>Whether you&rsquo\;re bringing your mom\, grandma\, auntie\, sister\, best friend&mdash\;or just treating yourself&mdash\;this is the perfect way to celebrate the amazing women in your life.</p><p>✨ You&rsquo\;ll be guided step-by-step in painting a stunning still-life featuring bright\, happy sunflowers in a vase with cascading purple and pink wisteria&mdash\;no experience needed!</p><p>🍷 NEW! Siebert&rsquo\;s now offers select beer and cider on tap\, plus poured wine available for purchase&mdash\;perfectly paired with their delicious charcuterie boards.</p><p>💛 Men&mdash\;this is your sign to switch it up and treat her to a relaxing\, creative night out (bonus points for snacks and a drink 😉).</p><p>💲 $40 per person</p><p>🎟 Spots are limited&mdash\;don&rsquo\;t wait!</p><p>To reserve your canvas\, reach out to Carrie Wells and Venmo to secure your spot.</p><p>Paint nights aren&rsquo\;t just fun&hellip\; they&rsquo\;re the kind of memories that stick with you. Come create something beautiful together.&nbsp\;</p></body></html>
LOCATION:112 S. Columbus Goldendale WA 98620
UID:e.2545.1448090
SEQUENCE:3
DTSTAMP:20260422T162351Z
URL:https://members.goldendalechamber.org/chamber-calendar/Details/mother-s-day-paint-night-1715093?sourceTypeId=Hub
END:VEVENT
END:VCALENDAR
