BEGIN:VCALENDAR
VERSION:2.0
PRODID:-//ChamberMaster//Event Calendar 2.0//EN
METHOD:PUBLISH
X-PUBLISHED-TTL:P1H
REFRESH-INTERVAL:P1H
CALSCALE:GREGORIAN
BEGIN:VTIMEZONE
TZID:America/Vancouver
BEGIN:DAYLIGHT
RRULE:FREQ=YEARLY;BYMONTH=3;BYDAY=2SU
DTSTART:20070101T000000
TZOFFSETFROM:-0800
TZOFFSETTO:-0700
TZNAME:Pacific Daylight Time
END:DAYLIGHT
BEGIN:STANDARD
RRULE:FREQ=YEARLY;BYMONTH=11;BYDAY=1SU
DTSTART:20070101T000000
TZOFFSETFROM:-0700
TZOFFSETTO:-0800
TZNAME:Pacific Standard Time
END:STANDARD
END:VTIMEZONE
BEGIN:VEVENT
DTSTART;VALUE=DATE:20260619
DTEND;VALUE=DATE:20260622
TRANSP:TRANSPARENT
X-MICROSOFT-CDO-ALLDAYEVENT:TRUE
SUMMARY:Rootstock Festival
DESCRIPTION:Vendors can apply hereFood Vendors apply here Presenter ApplicationLittle Roots Pop Up ApplicationAnimal CornerInterested in other ways to be part of the festival?Visit our website for more opportunities\, updates\, and the full schedule:
X-ALT-DESC;FMTTYPE=text/html:<!DOCTYPE html><html><head><title></title></head><body aria-disabled="false"><p><br></p><p><span style="color: rgb(41\, 105\, 176)\;"><a fr-original-style="" href="https://docs.google.com/forms/d/e/1FAIpQLSellx2VG5NQanIxPx0K7T0mnhi9O4B5Uv6xcgVNdPXJBSzJ7Q/viewform" style="user-select: auto\; color: inherit\;"> Vendors can apply here</a></span></p><p><span style="color: rgb(41\, 105\, 176)\;"><a fr-original-style="" href="https://docs.google.com/forms/d/e/1FAIpQLSdjVn8ut2IK4ZGzB296myHeB7FIi25NEXEb12_Hg3hJZ8Sw5g/viewform" style="user-select: auto\; color: inherit\;">Food Vendors apply here&nbsp\;</a></span></p><p><span style="color: rgb(41\, 105\, 176)\;"><a fr-original-style="" href="https://docs.google.com/forms/d/e/1FAIpQLSffu8RbgXb6hQmq1PYMSdYemAYWNOReHDN_NdkZYSzPPWxAYw/viewform" style="user-select: auto\; color: inherit\;">Presenter Application</a></span></p><p><span style="color: rgb(41\, 105\, 176)\;"><a fr-original-style="" href="https://docs.google.com/forms/d/e/1FAIpQLSe_jySykknKWE2AStWsPL3cwfWONz8pwQhAag5jiYQGqDVoQw/viewform" style="user-select: auto\; color: inherit\;">Little Roots Pop Up Application</a></span></p><p><span style="color: rgb(41\, 105\, 176)\;"><a fr-original-style="" href="https://docs.google.com/forms/d/e/1FAIpQLSfRNwJxSM2NUMw5TDrxTGIebxxXMY6rs7AenWCHAuDq8yorlQ/viewform" style="user-select: auto\; color: inherit\;">Animal Corner</a></span></p><p>Interested in other ways to be part of the festival?</p><p><span style="color: rgb(41\, 105\, 176)\;"><a fr-original-style="" href="https://hiddengemeventsnmore.com/rootstock-festival-2026/" style="user-select: auto\; color: inherit\;">Visit our website for more opportunities\, updates\, and the full schedule:</a></span></p><p><br></p><p><br></p><p><br></p><p><br></p></body></html>
LOCATION:Bingen WA 98605
UID:e.2545.1448101
SEQUENCE:3
DTSTAMP:20260422T164353Z
URL:https://members.goldendalechamber.org/chamber-calendar/Details/rootstock-festival-1715104?sourceTypeId=Hub
END:VEVENT
END:VCALENDAR
